BEGIN:VCALENDAR
VERSION:2.0
PRODID:-//94.9 The Wave - ECPv4.6.26//NONSGML v1.0//EN
CALSCALE:GREGORIAN
METHOD:PUBLISH
X-WR-CALNAME:94.9 The Wave
X-ORIGINAL-URL:https://949thewave.com
X-WR-CALDESC:Events for 94.9 The Wave
BEGIN:VEVENT
DTSTART;TZID=America/Halifax:20230422T100000
DTEND;TZID=America/Halifax:20230422T120000
DTSTAMP:20260424T121644
CREATED:20230330T175749Z
LAST-MODIFIED:20230330T175749Z
UID:13911-1682157600-1682164800@949thewave.com
SUMMARY:Super Saturday - String Pull Art
DESCRIPTION:Glace Bay Library \nSaturday April 22 \n10am – 12pm \nCome and paint with string!   Registration required.  Please call the library to register. \n  \n
URL:https://949thewave.com/event/super-saturday-string-pull-art/
END:VEVENT
END:VCALENDAR