BEGIN:VCALENDAR
VERSION:2.0
PRODID:-//94.9 The Wave - ECPv4.6.26//NONSGML v1.0//EN
CALSCALE:GREGORIAN
METHOD:PUBLISH
X-WR-CALNAME:94.9 The Wave
X-ORIGINAL-URL:https://949thewave.com
X-WR-CALDESC:Events for 94.9 The Wave
BEGIN:VEVENT
DTSTART;TZID=America/Halifax:20240113T100000
DTEND;TZID=America/Halifax:20240113T140000
DTSTAMP:20260423T163203
CREATED:20231214T191749Z
LAST-MODIFIED:20231214T191749Z
UID:15033-1705140000-1705154400@949thewave.com
SUMMARY:Super Saturday – Penguin Craft
DESCRIPTION:Glace Bay Library \nSat Jan 13 \n10-2 \nDrop in and make a cute Penguin craft \n\n\n
URL:https://949thewave.com/event/super-saturday-penguin-craft/
END:VEVENT
END:VCALENDAR