BEGIN:VCALENDAR
VERSION:2.0
PRODID:-//94.9 The Wave - ECPv4.6.26//NONSGML v1.0//EN
CALSCALE:GREGORIAN
METHOD:PUBLISH
X-WR-CALNAME:94.9 The Wave
X-ORIGINAL-URL:https://949thewave.com
X-WR-CALDESC:Events for 94.9 The Wave
BEGIN:VEVENT
DTSTART;TZID=America/Halifax:20240511T100000
DTEND;TZID=America/Halifax:20240511T140000
DTSTAMP:20260420T161613
CREATED:20240507T184202Z
LAST-MODIFIED:20240507T184202Z
UID:15548-1715421600-1715436000@949thewave.com
SUMMARY:Super Saturday: Ninja Easter Egg Craft
DESCRIPTION:Glace Bay Library \nSat May 11 \n10 – 2pm \nDrop in and make an army in Easter Egg Ninja’s. Hi-Yah! \n
URL:https://949thewave.com/event/super-saturday-ninja-easter-egg-craft/
END:VEVENT
END:VCALENDAR