BEGIN:VCALENDAR
VERSION:2.0
PRODID:-//94.9 The Wave - ECPv4.6.26//NONSGML v1.0//EN
CALSCALE:GREGORIAN
METHOD:PUBLISH
X-WR-CALNAME:94.9 The Wave
X-ORIGINAL-URL:https://949thewave.com
X-WR-CALDESC:Events for 94.9 The Wave
BEGIN:VEVENT
DTSTART;TZID=America/Halifax:20240127T100000
DTEND;TZID=America/Halifax:20240127T140000
DTSTAMP:20260421T035914
CREATED:20231214T192616Z
LAST-MODIFIED:20231214T192616Z
UID:15063-1706349600-1706364000@949thewave.com
SUMMARY:Super Saturday –Mini Book craft
DESCRIPTION:Glace Bay Library \nSat Jan 27 \n10-2 \nCelebrate Family Literacy Day today and make your own mini book! \n
URL:https://949thewave.com/event/super-saturday-mini-book-craft/
END:VEVENT
END:VCALENDAR