BEGIN:VCALENDAR
VERSION:2.0
PRODID:-//94.9 The Wave - ECPv4.6.26//NONSGML v1.0//EN
CALSCALE:GREGORIAN
METHOD:PUBLISH
X-WR-CALNAME:94.9 The Wave
X-ORIGINAL-URL:https://949thewave.com
X-WR-CALDESC:Events for 94.9 The Wave
BEGIN:VEVENT
DTSTART;TZID=America/Halifax:20231028T100000
DTEND;TZID=America/Halifax:20231028T120000
DTSTAMP:20260421T080550
CREATED:20231010T173046Z
LAST-MODIFIED:20231010T173046Z
UID:14694-1698487200-1698494400@949thewave.com
SUMMARY:Super Saturday Hallowe’en craft
DESCRIPTION:Glace Bay Library \nSat Oct 28 \n10 – 12 \nDrop in for a spooky hallowe’en craft \n  \n
URL:https://949thewave.com/event/super-saturday-halloween-craft/
END:VEVENT
END:VCALENDAR