BEGIN:VCALENDAR
VERSION:2.0
PRODID:-//94.9 The Wave - ECPv4.6.26//NONSGML v1.0//EN
CALSCALE:GREGORIAN
METHOD:PUBLISH
X-WR-CALNAME:94.9 The Wave
X-ORIGINAL-URL:https://949thewave.com
X-WR-CALDESC:Events for 94.9 The Wave
BEGIN:VEVENT
DTSTART;TZID=America/Halifax:20230923T100000
DTEND;TZID=America/Halifax:20230923T120000
DTSTAMP:20260425T165100
CREATED:20230906T154358Z
LAST-MODIFIED:20230906T154358Z
UID:14561-1695463200-1695470400@949thewave.com
SUMMARY:Super Saturday - Fall Craft
DESCRIPTION:Glace Bay Library \nSept 23 \n10 – 12 \nDrop in and enjoy making a fall themed craft \n  \n
URL:https://949thewave.com/event/super-saturday-fall-craft/
END:VEVENT
END:VCALENDAR