BEGIN:VCALENDAR
VERSION:2.0
PRODID:-//94.9 The Wave - ECPv4.6.26//NONSGML v1.0//EN
CALSCALE:GREGORIAN
METHOD:PUBLISH
X-WR-CALNAME:94.9 The Wave
X-ORIGINAL-URL:https://949thewave.com
X-WR-CALDESC:Events for 94.9 The Wave
BEGIN:VEVENT
DTSTART;TZID=America/Halifax:20260404T100000
DTEND;TZID=America/Halifax:20260404T103000
DTSTAMP:20260425T174936
CREATED:20260325T140409Z
LAST-MODIFIED:20260325T140409Z
UID:18135-1775296800-1775298600@949thewave.com
SUMMARY:Super Saturday – Annual Easter Egg Hunt
DESCRIPTION:Glace Bay Library\nSat April 4. 10am\nRegister for our annual Easter Egg Hunt. Bring Your Own Basket. Starts at 10am sharp while supplies last. 902-849-8657 or glacebay@cbrl.ca \n
URL:https://949thewave.com/event/super-saturday-annual-easter-egg-hunt/
END:VEVENT
END:VCALENDAR