BEGIN:VCALENDAR
VERSION:2.0
PRODID:-//94.9 The Wave - ECPv4.6.26//NONSGML v1.0//EN
CALSCALE:GREGORIAN
METHOD:PUBLISH
X-WR-CALNAME:94.9 The Wave
X-ORIGINAL-URL:https://949thewave.com
X-WR-CALDESC:Events for 94.9 The Wave
BEGIN:VEVENT
DTSTART;VALUE=DATE:20240210
DTEND;VALUE=DATE:20240211
DTSTAMP:20260423T191409
CREATED:20240124T145222Z
LAST-MODIFIED:20240124T145222Z
UID:15177-1707523200-1707609599@949thewave.com
SUMMARY:Summit Recreation Park Trail Hike
DESCRIPTION:Hike Nova Scotia andACAP Cape Breton- Atlantic Coastal Action Program Cape Breton present a guided hike on the Summit Recreation Park Trail Hike in New Waterford on February 10th at 10:30 AM. Registration required in advance; details at www.hikenovascotia.ca. \n
URL:https://949thewave.com/event/summit-recreation-park-trail-hike/
END:VEVENT
END:VCALENDAR