BEGIN:VCALENDAR
VERSION:2.0
PRODID:-//94.9 The Wave - ECPv4.6.26//NONSGML v1.0//EN
CALSCALE:GREGORIAN
METHOD:PUBLISH
X-WR-CALNAME:94.9 The Wave
X-ORIGINAL-URL:https://949thewave.com
X-WR-CALDESC:Events for 94.9 The Wave
BEGIN:VEVENT
DTSTART;VALUE=DATE:20230621
DTEND;VALUE=DATE:20230622
DTSTAMP:20260422T065356
CREATED:20230620T133434Z
LAST-MODIFIED:20230620T133434Z
UID:14270-1687305600-1687391999@949thewave.com
SUMMARY:Summer Solstice Concert
DESCRIPTION:A Summer Solstice Concert is taking place Wednesday\, June 21st\, 7:30pm\, at the Coxheath Hills Cultural Centre\, 1588 Coxheath Road\,. There is a great lineup of musicians & storytellers. Dessert & Tea will follow\, as well as a special Summer Solstice event outside. Tickets are $20 and can be purchased by calling 902-578-6709. \nA fundraiser for Coxheath Hills Wilderness Recreation Association \n
URL:https://949thewave.com/event/summer-solstice-concert/
END:VEVENT
END:VCALENDAR