BEGIN:VCALENDAR
VERSION:2.0
PRODID:-//94.9 The Wave - ECPv4.6.26//NONSGML v1.0//EN
CALSCALE:GREGORIAN
METHOD:PUBLISH
X-WR-CALNAME:94.9 The Wave
X-ORIGINAL-URL:https://949thewave.com
X-WR-CALDESC:Events for 94.9 The Wave
BEGIN:VEVENT
DTSTART;TZID=America/Halifax:20201010T090000
DTEND;TZID=America/Halifax:20201010T180000
DTSTAMP:20260421T110053
CREATED:20200923T131550Z
LAST-MODIFIED:20200925T144530Z
UID:10352-1602320400-1602352800@949thewave.com
SUMMARY:Stuff the Bus annual food drive
DESCRIPTION:Join us as we once again for Stuff the Bus for Loaves and Fishes\, Saturday October 10th from 9am to 5pm in the No Frills parking lot on Welton street. Help us stuff the bus and enter to win some great prizes. All food and monetary donations will go to Loaves and Fishes. Health and safety protocols will be followed. Please donate \n
URL:https://949thewave.com/event/stuff-the-bus-annual-food-drive/
CATEGORIES:Charity Events,Max 98 Presents
ATTACH;FMTTYPE=image/png:https://949thewave.com/wp-content/uploads/sites/12/2020/09/Stuff-the-bus-2020.png
END:VEVENT
END:VCALENDAR