BEGIN:VCALENDAR
VERSION:2.0
PRODID:-//94.9 The Wave - ECPv4.6.26//NONSGML v1.0//EN
CALSCALE:GREGORIAN
METHOD:PUBLISH
X-WR-CALNAME:94.9 The Wave
X-ORIGINAL-URL:https://949thewave.com
X-WR-CALDESC:Events for 94.9 The Wave
BEGIN:VEVENT
DTSTART;VALUE=DATE:20171007
DTEND;VALUE=DATE:20171008
DTSTAMP:20260421T234638
CREATED:20170919T182105Z
LAST-MODIFIED:20170919T182642Z
UID:3910-1507334400-1507420799@949thewave.com
SUMMARY:Stuff The Bus
DESCRIPTION: \n
URL:https://949thewave.com/event/stuff-a-bus/
END:VEVENT
END:VCALENDAR