BEGIN:VCALENDAR
VERSION:2.0
PRODID:-//94.9 The Wave - ECPv4.6.26//NONSGML v1.0//EN
CALSCALE:GREGORIAN
METHOD:PUBLISH
X-WR-CALNAME:94.9 The Wave
X-ORIGINAL-URL:https://949thewave.com
X-WR-CALDESC:Events for 94.9 The Wave
BEGIN:VEVENT
DTSTART;TZID=America/Halifax:20170713T110000
DTEND;TZID=America/Halifax:20170713T140000
DTSTAMP:20260420T185413
CREATED:20170628T183718Z
LAST-MODIFIED:20170628T183755Z
UID:3531-1499943600-1499954400@949thewave.com
SUMMARY:Strawberry Social
DESCRIPTION:St. Paul’s Presbyterian Church\, Brookside Street\, Glace Bay.  Thursday\, July 13\, 2017.  Eat In or Take Out.  11 AM – 2 PM.     Tickets: $8.00.  Phone: 902737-2529 or 902-849-249 \n
URL:https://949thewave.com/event/strawberry-social/
END:VEVENT
END:VCALENDAR