BEGIN:VCALENDAR
VERSION:2.0
PRODID:-//94.9 The Wave - ECPv4.6.26//NONSGML v1.0//EN
CALSCALE:GREGORIAN
METHOD:PUBLISH
X-WR-CALNAME:94.9 The Wave
X-ORIGINAL-URL:https://949thewave.com
X-WR-CALDESC:Events for 94.9 The Wave
BEGIN:VEVENT
DTSTART;TZID=America/Halifax:20180719T150000
DTEND;TZID=America/Halifax:20180719T180000
DTSTAMP:20260424T162933
CREATED:20180704T181117Z
LAST-MODIFIED:20180704T181117Z
UID:4699-1532012400-1532023200@949thewave.com
SUMMARY:Strawberry Festival
DESCRIPTION:Strawberry Festival\, Thursday\, July 19th\, 3 pm – 6 pm\, Adults $10.00\, Child under 12 $5.00. Eat in or Take-out. Everyone Welcome! Bethel United Church\, Marion Bridge\, CE Centre\, Hillside Road \n
URL:https://949thewave.com/event/strawberry-festival-4/
END:VEVENT
END:VCALENDAR