BEGIN:VCALENDAR
VERSION:2.0
PRODID:-//94.9 The Wave - ECPv4.6.26//NONSGML v1.0//EN
CALSCALE:GREGORIAN
METHOD:PUBLISH
X-WR-CALNAME:94.9 The Wave
X-ORIGINAL-URL:https://949thewave.com
X-WR-CALDESC:Events for 94.9 The Wave
BEGIN:VEVENT
DTSTART;TZID=America/Halifax:20170311T210000
DTEND;TZID=America/Halifax:20170312T010000
DTSTAMP:20260425T133607
CREATED:20170307T183028Z
LAST-MODIFIED:20170307T183253Z
UID:2185-1489266000-1489280400@949thewave.com
SUMMARY:Stone Church Restoration Society St. Paddy's Dance
DESCRIPTION:3rd Annual Stone Church Restoration Society St. Paddy’s Dance. Saturday\, March 11\, 2017 at the Whitney Pier Legion Branch 128 Upstairs from 9 PM – 1 AM.  Must be 19 years of age or older to attend.  Free photobooth\, best male and female Irish attire\, door prizes\, 50/50 and much more.  Admission $10/person at the door.  Advance tickets available at Pier Pharmasave\, Discount Pier Dollar Store\, Pier Legion Bar & New Waterford Pharmasave or call 902-371-1946. \nProceeds from this fundraiser will help to restore the 100 year old Stone Church in Victoria Mines. \n
URL:https://949thewave.com/event/stone-church-restoration-society-st-paddys-dance/
END:VEVENT
END:VCALENDAR