BEGIN:VCALENDAR
VERSION:2.0
PRODID:-//94.9 The Wave - ECPv4.6.26//NONSGML v1.0//EN
CALSCALE:GREGORIAN
METHOD:PUBLISH
X-WR-CALNAME:94.9 The Wave
X-ORIGINAL-URL:https://949thewave.com
X-WR-CALDESC:Events for 94.9 The Wave
BEGIN:VEVENT
DTSTART;TZID=America/Halifax:20170813T140000
DTEND;TZID=America/Halifax:20170813T150000
DTSTAMP:20260421T002337
CREATED:20170728T174651Z
LAST-MODIFIED:20170728T174651Z
UID:3648-1502632800-1502636400@949thewave.com
SUMMARY:St. Paul's Annual Cemetery Service
DESCRIPTION:St. Paul’s Anglican Church Port Morien are having their Annual Cemetery Service at St. Paul’s Cemetery in Black Brook on Sunday\, August 13\, 2017 at 2 PM at the Cemetery.  In case of inclement weather the Service will be held in St. Paul’s Church\, Cliff Street\, Port Morien. \n
URL:https://949thewave.com/event/st-pauls-annual-cemetery-service/
END:VEVENT
END:VCALENDAR