BEGIN:VCALENDAR
VERSION:2.0
PRODID:-//94.9 The Wave - ECPv4.6.26//NONSGML v1.0//EN
CALSCALE:GREGORIAN
METHOD:PUBLISH
X-WR-CALNAME:94.9 The Wave
X-ORIGINAL-URL:https://949thewave.com
X-WR-CALDESC:Events for 94.9 The Wave
BEGIN:VEVENT
DTSTART;TZID=America/Halifax:20170318T193000
DTEND;TZID=America/Halifax:20170318T213000
DTSTAMP:20260422T163712
CREATED:20170303T192653Z
LAST-MODIFIED:20170303T192653Z
UID:2174-1489865400-1489872600@949thewave.com
SUMMARY:St. Patrick's Evening of Fun
DESCRIPTION:Mira Seniors & Pensioners Centre\, Marion Bridge presents a St. Patrick’s Evening of Fun featuring “The Gillis Brothers”.  Saturday\, March 18\, 2017 from 730 PM – 930 PM.  Light Lunch Served.  Admission $10 at the door.  Everyone Welcome! \n
URL:https://949thewave.com/event/st-patricks-evening-of-fun/
END:VEVENT
END:VCALENDAR