BEGIN:VCALENDAR
VERSION:2.0
PRODID:-//94.9 The Wave - ECPv4.6.26//NONSGML v1.0//EN
CALSCALE:GREGORIAN
METHOD:PUBLISH
X-WR-CALNAME:94.9 The Wave
X-ORIGINAL-URL:https://949thewave.com
X-WR-CALDESC:Events for 94.9 The Wave
BEGIN:VEVENT
DTSTART;TZID=America/Halifax:20170525T173000
DTEND;TZID=America/Halifax:20170525T200000
DTSTAMP:20260423T121119
CREATED:20170515T173147Z
LAST-MODIFIED:20170515T173147Z
UID:3105-1495733400-1495742400@949thewave.com
SUMMARY:St.F.X. Alumni - Eastern Cape Breton Chapter Spring Social
DESCRIPTION:St.F.X. alumni and friends: The St.F.X. Alumni – Eastern Cape Breton Chapter is hosting a spring social beginning at 5:30pm on Thursday\, May 25\, 2017 at the Black Spoon Espresso Bar and Pantry\, located at 7 Convent Street in North Sydney. St.F.X. President Dr. Kent MacDonald will be our guest speaker. Join us for appetizers\, conversation\, and St.F.X. prizes! Alumni are asked to bring a nonperishable food item which will be donated to the local food bank. Please RSVP to alumni@stfx.ca \n
URL:https://949thewave.com/event/st-f-x-alumni-eastern-cape-breton-chapter-spring-social/
END:VEVENT
END:VCALENDAR