BEGIN:VCALENDAR
VERSION:2.0
PRODID:-//94.9 The Wave - ECPv4.6.26//NONSGML v1.0//EN
CALSCALE:GREGORIAN
METHOD:PUBLISH
X-WR-CALNAME:94.9 The Wave
X-ORIGINAL-URL:https://949thewave.com
X-WR-CALDESC:Events for 94.9 The Wave
BEGIN:VEVENT
DTSTART;TZID=America/Halifax:20170807T180000
DTEND;TZID=America/Halifax:20170807T220000
DTSTAMP:20260424T123432
CREATED:20170717T184241Z
LAST-MODIFIED:20170717T184241Z
UID:3612-1502128800-1502143200@949thewave.com
SUMMARY:St. Andrew's Presbyterian Church concert
DESCRIPTION:The Barra’s will be performing on Monday\, August 7th at St. Andrew’s Presbyterian Church in Sydney Mines (643 Main Street) @ 7:00 p.m. and door will open at 6 p.m\, tickets are $30 each and can be purchased at Shopper’s Drug Mart in North Sydney at the Post Office outlet or at Sexton’s Pharmasave in Sydney Mines at the pharmacy counter. Also\, you can reserve your tickets by calling 902-736-2508 or emailing f.johnston@bellaliant.net \n
URL:https://949thewave.com/event/st-andrews-presbyterian-church-concert-2/
END:VEVENT
END:VCALENDAR