BEGIN:VCALENDAR
VERSION:2.0
PRODID:-//94.9 The Wave - ECPv4.6.26//NONSGML v1.0//EN
CALSCALE:GREGORIAN
METHOD:PUBLISH
X-WR-CALNAME:94.9 The Wave
X-ORIGINAL-URL:https://949thewave.com
X-WR-CALDESC:Events for 94.9 The Wave
BEGIN:VEVENT
DTSTART;TZID=America/Halifax:20170518T160000
DTEND;TZID=America/Halifax:20170518T180000
DTSTAMP:20260424T121636
CREATED:20170505T174015Z
LAST-MODIFIED:20170505T174015Z
UID:2991-1495123200-1495130400@949thewave.com
SUMMARY:Spring Tea
DESCRIPTION:Spring Tea at Warden United Church\, New Aberdeen on May 18th from 4 PM – 6 PM.  $7 per person\, eat in or take-out.  Sponsored by United Church UCW \n
URL:https://949thewave.com/event/spring-tea/
END:VEVENT
END:VCALENDAR