BEGIN:VCALENDAR
VERSION:2.0
PRODID:-//94.9 The Wave - ECPv4.6.26//NONSGML v1.0//EN
CALSCALE:GREGORIAN
METHOD:PUBLISH
X-WR-CALNAME:94.9 The Wave
X-ORIGINAL-URL:https://949thewave.com
X-WR-CALDESC:Events for 94.9 The Wave
BEGIN:VEVENT
DTSTART;TZID=America/Halifax:20170611T120000
DTEND;TZID=America/Halifax:20170611T140000
DTSTAMP:20260424T095506
CREATED:20170530T183327Z
LAST-MODIFIED:20170530T183327Z
UID:3254-1497182400-1497189600@949thewave.com
SUMMARY:Spring Luncheon
DESCRIPTION:The Boularderie Mammowarriors invite you to their Spring Luncheon! When: Sunday June 11\, noon to 2 pm Where: Boularderie School Choice of Ham Salad or Lentil Salad plate Rolls\, dessert\, and tea/coffee $9 at the door Bake table\, draws\, and fun! All for the Cape Breton Cancer Patient Care Fund! \n
URL:https://949thewave.com/event/spring-luncheon/
END:VEVENT
END:VCALENDAR