BEGIN:VCALENDAR
VERSION:2.0
PRODID:-//94.9 The Wave - ECPv4.6.26//NONSGML v1.0//EN
CALSCALE:GREGORIAN
METHOD:PUBLISH
X-WR-CALNAME:94.9 The Wave
X-ORIGINAL-URL:https://949thewave.com
X-WR-CALDESC:Events for 94.9 The Wave
BEGIN:VEVENT
DTSTART;TZID=America/Halifax:20170506T120000
DTEND;TZID=America/Halifax:20170506T140000
DTSTAMP:20260422T163833
CREATED:20170421T121736Z
LAST-MODIFIED:20170421T121736Z
UID:2765-1494072000-1494079200@949thewave.com
SUMMARY:Spring Fling Tea and Bake Sale
DESCRIPTION:Christ the King Church will be holding its Spring Fling Tea and Bake Sale on May 6th from 12:00 – 2:00 at St. George’s Hall on Napean St. Tickets are $6.00 either at the door or by contacting Jean at 567-2079. \n
URL:https://949thewave.com/event/spring-fling-tea-and-bake-sale/
END:VEVENT
END:VCALENDAR