BEGIN:VCALENDAR
VERSION:2.0
PRODID:-//94.9 The Wave - ECPv4.6.26//NONSGML v1.0//EN
CALSCALE:GREGORIAN
METHOD:PUBLISH
X-WR-CALNAME:94.9 The Wave
X-ORIGINAL-URL:https://949thewave.com
X-WR-CALDESC:Events for 94.9 The Wave
BEGIN:VEVENT
DTSTART;TZID=America/Halifax:20170429T200000
DTEND;TZID=America/Halifax:20170429T235500
DTSTAMP:20260422T173340
CREATED:20170427T182712Z
LAST-MODIFIED:20170427T182712Z
UID:2893-1493496000-1493510100@949thewave.com
SUMMARY:Spring Dance
DESCRIPTION:St. Albans “Spring Dance” Music by the “Roadies” Date: Saturday\, April 29th Time: 8pm-Midnight Place: St. Albans Hall\, Whitney Pier Tickets: $5.00 each or pay at the door. \n
URL:https://949thewave.com/event/spring-dance/
END:VEVENT
END:VCALENDAR