BEGIN:VCALENDAR
VERSION:2.0
PRODID:-//94.9 The Wave - ECPv4.6.26//NONSGML v1.0//EN
CALSCALE:GREGORIAN
METHOD:PUBLISH
X-WR-CALNAME:94.9 The Wave
X-ORIGINAL-URL:https://949thewave.com
X-WR-CALDESC:Events for 94.9 The Wave
BEGIN:VEVENT
DTSTART;TZID=America/Halifax:20170408T110000
DTEND;TZID=America/Halifax:20170408T150000
DTSTAMP:20260425T135729
CREATED:20170407T184500Z
LAST-MODIFIED:20170407T184500Z
UID:2518-1491649200-1491663600@949thewave.com
SUMMARY:Spring Bazaar
DESCRIPTION:This Saturday 2nd Annual Spring Bazaar and FREE pictures with the Easter Bunny Saturday\, April 08 from 11:00 -3:00pm @ the Polish Village on 972 Victoria Rd (Whitney Pier)for a great variety of crafts\, giftware \,jewelry\, baked goodies \,children’s gifts and much more in time for Easter with all local vendors. The Easter Bunny will be on hand for FREE professional photos from 11am -2pm.Door admission by donation to the Stone Church Restoration Society Here is the Facebook event link : https://www.facebook.com/events/1321567731222975/?ti=icl (902)371-1946 cbstonechurch@hotmail.com \n
URL:https://949thewave.com/event/spring-bazaar/
END:VEVENT
END:VCALENDAR