BEGIN:VCALENDAR
VERSION:2.0
PRODID:-//94.9 The Wave - ECPv4.6.26//NONSGML v1.0//EN
CALSCALE:GREGORIAN
METHOD:PUBLISH
X-WR-CALNAME:94.9 The Wave
X-ORIGINAL-URL:https://949thewave.com
X-WR-CALDESC:Events for 94.9 The Wave
BEGIN:VEVENT
DTSTART;TZID=America/Halifax:20240301T110000
DTEND;TZID=America/Halifax:20240301T140000
DTSTAMP:20260421T083412
CREATED:20240227T173624Z
LAST-MODIFIED:20240227T173624Z
UID:15319-1709290800-1709301600@949thewave.com
SUMMARY:Spaghetti & Meatball Dinner
DESCRIPTION:Warden United Church\n5th St Glace Bay\nFriday March 1st\, 2024\n11:00am to 2:00pm\nAdm. $15.00\nTakeout Only\nFor tickets call\nHelen Stewart 902-849-4768\nOr\nWarna Fraser 902-202-4430 \n
URL:https://949thewave.com/event/spaghetti-meatball-dinner/
END:VEVENT
END:VCALENDAR