BEGIN:VCALENDAR
VERSION:2.0
PRODID:-//94.9 The Wave - ECPv4.6.26//NONSGML v1.0//EN
CALSCALE:GREGORIAN
METHOD:PUBLISH
X-WR-CALNAME:94.9 The Wave
X-ORIGINAL-URL:https://949thewave.com
X-WR-CALDESC:Events for 94.9 The Wave
BEGIN:VEVENT
DTSTART;VALUE=DATE:20260509
DTEND;VALUE=DATE:20260510
DTSTAMP:20260421T164210
CREATED:20260420T150802Z
LAST-MODIFIED:20260420T150802Z
UID:18209-1778284800-1778371199@949thewave.com
SUMMARY:Spaghetti dinner and auction
DESCRIPTION:Ukrainian parish hall is doing a fundraiser for renovations on May 9 th doors open 6 and meal is at 7 tickets are 10$ and be purchased by call 9025490644 \n
URL:https://949thewave.com/event/spaghetti-dinner-and-auction-2/
END:VEVENT
END:VCALENDAR