BEGIN:VCALENDAR
VERSION:2.0
PRODID:-//94.9 The Wave - ECPv4.6.26//NONSGML v1.0//EN
CALSCALE:GREGORIAN
METHOD:PUBLISH
X-WR-CALNAME:94.9 The Wave
X-ORIGINAL-URL:https://949thewave.com
X-WR-CALDESC:Events for 94.9 The Wave
BEGIN:VEVENT
DTSTART;TZID=America/Halifax:20230716T140000
DTEND;TZID=America/Halifax:20230716T170000
DTSTAMP:20260421T175828
CREATED:20230704T130604Z
LAST-MODIFIED:20230704T130604Z
UID:14356-1689516000-1689526800@949thewave.com
SUMMARY:Southside Boularderie Strawberry Festival
DESCRIPTION:Southside Boularderie Vol. Fire Dept. Fire Hall\nSunday July 16 th. 2 pm to 5 pm\nTake Out Only\n$12.00\nContact any firefighter for tickets\nOr call Jimmie 902-736-6731\, Mike 902 578-4794 \n
URL:https://949thewave.com/event/southside-boularderie-strawberry-festival/
END:VEVENT
END:VCALENDAR