BEGIN:VCALENDAR
VERSION:2.0
PRODID:-//94.9 The Wave - ECPv4.6.26//NONSGML v1.0//EN
CALSCALE:GREGORIAN
METHOD:PUBLISH
X-WR-CALNAME:94.9 The Wave
X-ORIGINAL-URL:https://949thewave.com
X-WR-CALDESC:Events for 94.9 The Wave
BEGIN:VEVENT
DTSTART;TZID=America/Halifax:20230424T133000
DTEND;TZID=America/Halifax:20230424T153000
DTSTAMP:20260424T135558
CREATED:20230412T153050Z
LAST-MODIFIED:20230412T153050Z
UID:13955-1682343000-1682350200@949thewave.com
SUMMARY:Sound Advice: Living with Hearing Loss
DESCRIPTION:Sound Advice: Living with Hearing Loss: learn about communication tips\, how to read your audiogram\, help with your TV and phone and so much more. April 24 @ 1:30 – 3:30pm McConnell Library. Register at 902-564-0003 \n
URL:https://949thewave.com/event/sound-advice-living-with-hearing-loss-2/
END:VEVENT
END:VCALENDAR