BEGIN:VCALENDAR
VERSION:2.0
PRODID:-//94.9 The Wave - ECPv4.6.26//NONSGML v1.0//EN
CALSCALE:GREGORIAN
METHOD:PUBLISH
X-WR-CALNAME:94.9 The Wave
X-ORIGINAL-URL:https://949thewave.com
X-WR-CALDESC:Events for 94.9 The Wave
BEGIN:VEVENT
DTSTART;TZID=America/Halifax:20170425T183000
DTEND;TZID=America/Halifax:20170425T200000
DTSTAMP:20260422T175936
CREATED:20170419T130828Z
LAST-MODIFIED:20170419T130828Z
UID:2678-1493145000-1493150400@949thewave.com
SUMMARY:SOS (Survivors of Suicide) Meeting
DESCRIPTION:SOS (Survivors of Suicide) Cape Breton support group on Tuesday\, April 25\, 6:30pm at 188 George Street\, Sydney. Anyone who is mourning the loss of someone who died by suicide is welcome. \n
URL:https://949thewave.com/event/sos-survivors-of-suicide-meeting/
END:VEVENT
END:VCALENDAR