BEGIN:VCALENDAR
VERSION:2.0
PRODID:-//94.9 The Wave - ECPv4.6.26//NONSGML v1.0//EN
CALSCALE:GREGORIAN
METHOD:PUBLISH
X-WR-CALNAME:94.9 The Wave
X-ORIGINAL-URL:https://949thewave.com
X-WR-CALDESC:Events for 94.9 The Wave
BEGIN:VEVENT
DTSTART;TZID=America/Halifax:20230528T160000
DTEND;TZID=America/Halifax:20230528T200000
DTSTAMP:20260425T150459
CREATED:20230512T170650Z
LAST-MODIFIED:20230512T170650Z
UID:14119-1685289600-1685304000@949thewave.com
SUMMARY:Society of Deaf and Hard of Hearing Nova Scotians Fundraiser
DESCRIPTION:Celebrate May Hearing Awareness Month. Best Live Pop and Country Soundtrack\, Sunday\, May 28\, 2023\, 4:00pm – 8:00pm\, Daniel’s Alehouse & Eatery\, Charlotte Street. Featuring: Ron LaFitte and Ed Burke\, Jacob Noonan\, Cam Hollohan\, Janet Bickerton and Friends. Fundraiser for Society of Deaf and Hard of Hearing Nova Scotians. Donations at the Door. \n
URL:https://949thewave.com/event/society-of-deaf-and-hard-of-hearing-nova-scotians-fundraiser/
END:VEVENT
END:VCALENDAR