BEGIN:VCALENDAR
VERSION:2.0
PRODID:-//94.9 The Wave - ECPv4.6.26//NONSGML v1.0//EN
CALSCALE:GREGORIAN
METHOD:PUBLISH
X-WR-CALNAME:94.9 The Wave
X-ORIGINAL-URL:https://949thewave.com
X-WR-CALDESC:Events for 94.9 The Wave
BEGIN:VEVENT
DTSTART;TZID=America/Halifax:20181020T090000
DTEND;TZID=America/Halifax:20181020T160000
DTSTAMP:20260423T102208
CREATED:20181003T122804Z
LAST-MODIFIED:20181003T122804Z
UID:5296-1540026000-1540051200@949thewave.com
SUMMARY:Skills for Healing Seminar
DESCRIPTION:SKILLS FOR HEALING DAY LONG SEMINAR WHEN: Saturday\, Oct.20\, 2018 from 9am – 4pm WHERE: The Salvation Army Community Church\, 55 Inglis Street\, Sydney\,NS SPEAKER: Dr. Rob Rutledge\, Radiation Oncologist\, Associate Professor Dalhousie University\, NS Cancer Center TOPICS: How to get complete cancer care Empowering the body Stress reduction and mind-body techniques Mindfulness and other healing skills Meditation and informal discussion PRE-REGISTRATION is required. Contact Colleen Brushett\, Cape Breton Cancer Center at 902-567-8556 to register and for more information This is a free event open to anyone with a diagnosis of cancer and a loved one Lunch will be provided SCENT FREE EVENT Sponsored by Cape Breton Regional Hospital Foundation\, Cape Breton Cancer Center\, NS Health Authority and Healing and Cancer \n
URL:https://949thewave.com/event/skills-for-healing-seminar/
END:VEVENT
END:VCALENDAR