BEGIN:VCALENDAR
VERSION:2.0
PRODID:-//94.9 The Wave - ECPv4.6.26//NONSGML v1.0//EN
CALSCALE:GREGORIAN
METHOD:PUBLISH
X-WR-CALNAME:94.9 The Wave
X-ORIGINAL-URL:https://949thewave.com
X-WR-CALDESC:Events for 94.9 The Wave
BEGIN:VEVENT
DTSTART;TZID=America/Halifax:20200210T103000
DTEND;TZID=America/Halifax:20200212T113000
DTSTAMP:20260421T175431
CREATED:20200207T130518Z
LAST-MODIFIED:20200207T130518Z
UID:9182-1581330600-1581507000@949thewave.com
SUMMARY:Seniors Chair Exercises
DESCRIPTION:Seniors Chair Exercises \nEvery Monday & Wednesday \n1030 AM – 1130 AM \nWhitney Pier Seniors Hall\, 50 Breton St\, Whitney Pier \n
URL:https://949thewave.com/event/seniors-chair-exercises/2020-02-10/
END:VEVENT
END:VCALENDAR