BEGIN:VCALENDAR
VERSION:2.0
PRODID:-//94.9 The Wave - ECPv4.6.26//NONSGML v1.0//EN
CALSCALE:GREGORIAN
METHOD:PUBLISH
X-WR-CALNAME:94.9 The Wave
X-ORIGINAL-URL:https://949thewave.com
X-WR-CALDESC:Events for 94.9 The Wave
BEGIN:VEVENT
DTSTART;TZID=America/Halifax:20231114T140000
DTEND;TZID=America/Halifax:20231114T153000
DTSTAMP:20260425T153645
CREATED:20231106T161216Z
LAST-MODIFIED:20231106T161216Z
UID:14780-1699970400-1699975800@949thewave.com
SUMMARY:Senior Art @ GBL
DESCRIPTION:Glace Bay Library \nTues Nov 14 \n2-3:30pm \nJoin us for some art Registration required. Please email ewilliams@cbrl.ca or cmcinnis@cbrl.ca \n\n
URL:https://949thewave.com/event/senior-art-gbl/
END:VEVENT
END:VCALENDAR