BEGIN:VCALENDAR
VERSION:2.0
PRODID:-//94.9 The Wave - ECPv4.6.26//NONSGML v1.0//EN
CALSCALE:GREGORIAN
METHOD:PUBLISH
X-WR-CALNAME:94.9 The Wave
X-ORIGINAL-URL:https://949thewave.com
X-WR-CALDESC:Events for 94.9 The Wave
BEGIN:VEVENT
DTSTART;TZID=America/Halifax:20190424T150000
DTEND;TZID=America/Halifax:20190424T170000
DTSTAMP:20260422T235353
CREATED:20190403T175532Z
LAST-MODIFIED:20190403T175532Z
UID:6613-1556118000-1556125200@949thewave.com
SUMMARY:Scotia Rail Development Society AGM
DESCRIPTION:The Scotia Rail Development Society Annual General Meeting will be held at the Lighthouse Concourse of the Joan Harris Cruise Pavilion on Wednesday\, April 24th at 3:00 p.m. The public are welcome to attend. \n
URL:https://949thewave.com/event/scotia-rail-development-society-agm/
END:VEVENT
END:VCALENDAR