BEGIN:VCALENDAR
VERSION:2.0
PRODID:-//94.9 The Wave - ECPv4.6.26//NONSGML v1.0//EN
CALSCALE:GREGORIAN
METHOD:PUBLISH
X-WR-CALNAME:94.9 The Wave
X-ORIGINAL-URL:https://949thewave.com
X-WR-CALDESC:Events for 94.9 The Wave
BEGIN:VEVENT
DTSTART;TZID=America/Halifax:20181216T120000
DTEND;TZID=America/Halifax:20181216T150000
DTSTAMP:20260422T151949
CREATED:20181210T195011Z
LAST-MODIFIED:20181210T195011Z
UID:5855-1544961600-1544972400@949thewave.com
SUMMARY:Santa's Workshop at Riverview High School
DESCRIPTION:On Sunday\, December 16th\, Riverview High School invites you to join us in our celebration of the Christmas Season in support of Adopt-A-Family. Featuring games\, storytelling\, classic Christmas movie screenings and Christmas crafts\, Santa’s Workshop will be open from 12pm-3pm with a special appearance and photo opportunity with Santa himself from 12:30-2:30. \n—- \n• Children must be accompanied by an adult\n• $5 per family\n• winter clothing and monetary donations welcome” \n
URL:https://949thewave.com/event/santas-workshop-at-riverview-high-school/
END:VEVENT
END:VCALENDAR