BEGIN:VCALENDAR
VERSION:2.0
PRODID:-//94.9 The Wave - ECPv4.6.26//NONSGML v1.0//EN
CALSCALE:GREGORIAN
METHOD:PUBLISH
X-WR-CALNAME:94.9 The Wave
X-ORIGINAL-URL:https://949thewave.com
X-WR-CALDESC:Events for 94.9 The Wave
BEGIN:VEVENT
DTSTART;TZID=America/Halifax:20231210T140000
DTEND;TZID=America/Halifax:20231210T150000
DTSTAMP:20260425T124419
CREATED:20231130T192955Z
LAST-MODIFIED:20231130T192955Z
UID:14940-1702216800-1702220400@949thewave.com
SUMMARY:Santa at the fire hall
DESCRIPTION:Sunday December 10 from 2-3pm Santa will be visiting the Mira Road Volunteer Fire Dept. Treat bags\, photos with Santa\, and seeing the new gear acquired from the support of the community through the 50/50 fire draw will be a few things on the agenda! \n
URL:https://949thewave.com/event/santa-at-the-fire-hall/
END:VEVENT
END:VCALENDAR