BEGIN:VCALENDAR
VERSION:2.0
PRODID:-//94.9 The Wave - ECPv4.6.26//NONSGML v1.0//EN
CALSCALE:GREGORIAN
METHOD:PUBLISH
X-WR-CALNAME:94.9 The Wave
X-ORIGINAL-URL:https://949thewave.com
X-WR-CALDESC:Events for 94.9 The Wave
BEGIN:VEVENT
DTSTART;TZID=America/Halifax:20220320T130000
DTEND;TZID=America/Halifax:20220320T220000
DTSTAMP:20260424T075218
CREATED:20220315T175917Z
LAST-MODIFIED:20220315T180017Z
UID:12504-1647781200-1647813600@949thewave.com
SUMMARY:Rockin' Fundraiser for Ukraine
DESCRIPTION:There will be a fundraiser for the benefit of Ukraine to be held on Sunday\, March 20 from 1 pm -10 pm at the Ukrainian Hall 49 West St\, Sydney. During that time 8 different musical groups will be appearing to provide a day of entertainment in aid of raising monies to help the Ukrainian people. All money raised will be donated to the Catholic Near East Welfare Association (CNEWA). \nTickets are on sale at the Cape Breton Curiosity Shop on Charlotte St. for $10 or at the door during the event. \n
URL:https://949thewave.com/event/rockin-fundraiser-for-ukraine/
CATEGORIES:Charity Events
ATTACH;FMTTYPE=image/png:https://949thewave.com/wp-content/uploads/sites/12/2022/03/ukraine-fundraiser-poster0306221428.png
END:VEVENT
END:VCALENDAR