BEGIN:VCALENDAR
VERSION:2.0
PRODID:-//94.9 The Wave - ECPv4.6.26//NONSGML v1.0//EN
CALSCALE:GREGORIAN
METHOD:PUBLISH
X-WR-CALNAME:94.9 The Wave
X-ORIGINAL-URL:https://949thewave.com
X-WR-CALDESC:Events for 94.9 The Wave
BEGIN:VEVENT
DTSTART;TZID=America/Halifax:20230812T170000
DTEND;TZID=America/Halifax:20230813T010000
DTSTAMP:20260422T175729
CREATED:20230808T143625Z
LAST-MODIFIED:20230808T143625Z
UID:14423-1691859600-1691888400@949thewave.com
SUMMARY:ROCK YOUR DORY
DESCRIPTION:Branch 55\, Port Morien Legion is hosting the ROCK YOUR DORY Outdoor Concert this Saturday\, August 12th from 5 p.m. to 1 a.m. in the legion parking lot. Final Cut\, Full Circle\, Bandit\, and Broken Road will be rocking the night away. Tickets are $20.00 and are available at Dearn’s Corner Convenience Store or the legion bar.\nTickets will also be sold at the gate for $20.00. There will be a barbecue open until 9 p.m.. Come listen to some great music and support the Port Morien Legion This Saturday\, August 12th from 5 p.m. to 1 a.m. Must be 19+. \n
URL:https://949thewave.com/event/rock-your-dory-2/
END:VEVENT
END:VCALENDAR