BEGIN:VCALENDAR
VERSION:2.0
PRODID:-//94.9 The Wave - ECPv4.6.26//NONSGML v1.0//EN
CALSCALE:GREGORIAN
METHOD:PUBLISH
X-WR-CALNAME:94.9 The Wave
X-ORIGINAL-URL:https://949thewave.com
X-WR-CALDESC:Events for 94.9 The Wave
BEGIN:VEVENT
DTSTART;TZID=America/Halifax:20190415T180000
DTEND;TZID=America/Halifax:20190415T200000
DTSTAMP:20260420T190153
CREATED:20190408T134321Z
LAST-MODIFIED:20190408T134321Z
UID:6661-1555351200-1555358400@949thewave.com
SUMMARY:Rising Tide Festival
DESCRIPTION:It takes a Community to See Through the Fog of Drugs \nA presentation by Dr. Dechman on ‘thinking differently’ about how we treat people and the potential damage we cause by attaching drug use \nApril 15th @ 6 PM \nRoyal Canadian Legion Branch 8\, Sydney Mines \n
URL:https://949thewave.com/event/rising-tide-festival-2/
END:VEVENT
END:VCALENDAR