BEGIN:VCALENDAR
VERSION:2.0
PRODID:-//94.9 The Wave - ECPv4.6.26//NONSGML v1.0//EN
CALSCALE:GREGORIAN
METHOD:PUBLISH
X-WR-CALNAME:94.9 The Wave
X-ORIGINAL-URL:https://949thewave.com
X-WR-CALDESC:Events for 94.9 The Wave
BEGIN:VEVENT
DTSTART;TZID=America/Halifax:20240113T100000
DTEND;TZID=America/Halifax:20240113T120000
DTSTAMP:20260423T145400
CREATED:20240109T170907Z
LAST-MODIFIED:20240109T170907Z
UID:15141-1705140000-1705147200@949thewave.com
SUMMARY:Puzzles and Games
DESCRIPTION:Join us at the New Waterford Library anytime between 10 and 12 Saturday\, January 13th for a fun morning with puzzles and games. All ages welcome. \n
URL:https://949thewave.com/event/puzzles-and-games/
END:VEVENT
END:VCALENDAR