BEGIN:VCALENDAR
VERSION:2.0
PRODID:-//94.9 The Wave - ECPv4.6.26//NONSGML v1.0//EN
CALSCALE:GREGORIAN
METHOD:PUBLISH
X-WR-CALNAME:94.9 The Wave
X-ORIGINAL-URL:https://949thewave.com
X-WR-CALDESC:Events for 94.9 The Wave
BEGIN:VEVENT
DTSTART;VALUE=DATE:20230809
DTEND;VALUE=DATE:20230810
DTSTAMP:20260424T111043
CREATED:20230808T143733Z
LAST-MODIFIED:20230808T143733Z
UID:14425-1691539200-1691625599@949thewave.com
SUMMARY:PRIDE Cape Breton Living Library
DESCRIPTION:Wednesday\, August 9\n5 pm\nMcConnell Library (Sydney) \nTrauma. Tragedy. Triumph. Real people. Real stories. Unsung heroes.\nThe Living Library is an essential part of Pride Cape Breton’s Pride Celebration\, especially in these times. We’re lucky enough to have members of our community\, all with very different stories\, share their lived experiences with us so we can learn\, grow\, revaluate our biases\, and consider another person’s journey.\nEach of the evening’s speakers have volunteered to share the hardships that have shaped their lives and how they decided to take control instead of being destroyed by them.\nHope to see you there! \n
URL:https://949thewave.com/event/pride-cape-breton-living-library/
END:VEVENT
END:VCALENDAR