BEGIN:VCALENDAR
VERSION:2.0
PRODID:-//94.9 The Wave - ECPv4.6.26//NONSGML v1.0//EN
CALSCALE:GREGORIAN
METHOD:PUBLISH
X-WR-CALNAME:94.9 The Wave
X-ORIGINAL-URL:https://949thewave.com
X-WR-CALDESC:Events for 94.9 The Wave
BEGIN:VEVENT
DTSTART;TZID=America/Halifax:20230528T100000
DTEND;TZID=America/Halifax:20230528T140000
DTSTAMP:20260425T162618
CREATED:20230524T152454Z
LAST-MODIFIED:20230524T152454Z
UID:14138-1685268000-1685282400@949thewave.com
SUMMARY:Port Morien Wildlife Association Fishing Derby
DESCRIPTION:When: May 28\, 2023 from 10am-2pm \nWhere:  John Bernard Croak Memorial Park (50 Beacon St.\, Glace Bay\, NS) \nThis is a youth event for ages 16 and under.  Prize categories are 7 and Under; 8-12; 13-16.  Admission is free.  Registrants of 16 years require a NS general fishing license (this license can be obtained for free from local vendors).  This is a fishing regulation that must be followed.  Entrants must be registered prior to registering catch. \n
URL:https://949thewave.com/event/port-morien-wildlife-association-fishing-derby/
END:VEVENT
END:VCALENDAR