BEGIN:VCALENDAR
VERSION:2.0
PRODID:-//94.9 The Wave - ECPv4.6.26//NONSGML v1.0//EN
CALSCALE:GREGORIAN
METHOD:PUBLISH
X-WR-CALNAME:94.9 The Wave
X-ORIGINAL-URL:https://949thewave.com
X-WR-CALDESC:Events for 94.9 The Wave
BEGIN:VEVENT
DTSTART;TZID=America/Halifax:20210814T160000
DTEND;TZID=America/Halifax:20210814T180000
DTSTAMP:20260421T125538
CREATED:20210723T170412Z
LAST-MODIFIED:20210723T170412Z
UID:11761-1628956800-1628964000@949thewave.com
SUMMARY:PORK CHOP SUPPER
DESCRIPTION:LOCH LOMOND COMMUNITY HALL \nAUGUST 14TH   4—6 PM \nEAT IN OR TAKE OUT \n$15.00 PER PERSON \nSOCIAL DISTINCING & MASKS REQUIRED \nLOCH LOMOND VOLUNTEER FIRE DEPT. \n
URL:https://949thewave.com/event/pork-chop-supper/
CATEGORIES:Community
END:VEVENT
END:VCALENDAR