BEGIN:VCALENDAR
VERSION:2.0
PRODID:-//94.9 The Wave - ECPv4.6.26//NONSGML v1.0//EN
CALSCALE:GREGORIAN
METHOD:PUBLISH
X-WR-CALNAME:94.9 The Wave
X-ORIGINAL-URL:https://949thewave.com
X-WR-CALDESC:Events for 94.9 The Wave
BEGIN:VEVENT
DTSTART;TZID=America/Halifax:20230502T130000
DTEND;TZID=America/Halifax:20230503T200000
DTSTAMP:20260424T134759
CREATED:20230426T152640Z
LAST-MODIFIED:20230426T152640Z
UID:14005-1683032400-1683144000@949thewave.com
SUMMARY:Polish May Holidays
DESCRIPTION:Help celebrate the Polish May holidays with two events — one in person and one on Zoom. The first is a free Polish Cafe on Tuesday\, May 2\, at 1 p.m. at the Polish Village Hall in Whitney Pier. And then on Tuesday\, May 3\, at 8 p.m.\, the St. Michael’s Polish Benefit Society will host a Zoom lecture and Q & A with author Sophie Hodorowicz Knab\, leading expert on Polish folklore\, holidays\, and customs. It will be a great intro! Everyone is welcome. For a Zoom link\, please email tom_urbaniak@cbu.ca. \n
URL:https://949thewave.com/event/polish-may-holidays/
END:VEVENT
END:VCALENDAR