BEGIN:VCALENDAR
VERSION:2.0
PRODID:-//94.9 The Wave - ECPv4.6.26//NONSGML v1.0//EN
CALSCALE:GREGORIAN
METHOD:PUBLISH
X-WR-CALNAME:94.9 The Wave
X-ORIGINAL-URL:https://949thewave.com
X-WR-CALDESC:Events for 94.9 The Wave
BEGIN:VEVENT
DTSTART;VALUE=DATE:20230911
DTEND;VALUE=DATE:20230912
DTSTAMP:20260423T102345
CREATED:20230906T153647Z
LAST-MODIFIED:20230906T153647Z
UID:14536-1694390400-1694476799@949thewave.com
SUMMARY:Pokemon Club!
DESCRIPTION:Glace Bay Library \nSept 11 \nWelcome back for our Pokemon Club!  Gotta Catch em all!   Register by calling 902-849-8657 or email: ewilliams@cbrl.ca or cmcinnis@cbrl.ca \n  \n
URL:https://949thewave.com/event/pokemon-club/
END:VEVENT
END:VCALENDAR