BEGIN:VCALENDAR
VERSION:2.0
PRODID:-//94.9 The Wave - ECPv4.6.26//NONSGML v1.0//EN
CALSCALE:GREGORIAN
METHOD:PUBLISH
X-WR-CALNAME:94.9 The Wave
X-ORIGINAL-URL:https://949thewave.com
X-WR-CALDESC:Events for 94.9 The Wave
BEGIN:VEVENT
DTSTART;TZID=America/Halifax:20230529T183000
DTEND;TZID=America/Halifax:20230529T193000
DTSTAMP:20260425T162420
CREATED:20230505T175653Z
LAST-MODIFIED:20230505T175653Z
UID:14081-1685385000-1685388600@949thewave.com
SUMMARY:Pokemon Club TCG 3
DESCRIPTION:Glace Bay Library \nMonday May 29 \n6:30 – 7:30pm \nJoin us for an hour of Pokemon games and crafts.  Registration required.  Please call the library to register. \n  \n
URL:https://949thewave.com/event/pokemon-club-tcg-3-2/
END:VEVENT
END:VCALENDAR