BEGIN:VCALENDAR
VERSION:2.0
PRODID:-//94.9 The Wave - ECPv4.6.26//NONSGML v1.0//EN
CALSCALE:GREGORIAN
METHOD:PUBLISH
X-WR-CALNAME:94.9 The Wave
X-ORIGINAL-URL:https://949thewave.com
X-WR-CALDESC:Events for 94.9 The Wave
BEGIN:VEVENT
DTSTART;TZID=America/Halifax:20230417T183000
DTEND;TZID=America/Halifax:20230417T193000
DTSTAMP:20260424T154715
CREATED:20230330T175142Z
LAST-MODIFIED:20230330T175142Z
UID:13899-1681756200-1681759800@949thewave.com
SUMMARY:Pokemon Club TCG 2
DESCRIPTION:Glace Bay Library \nMonday April 17th \n6:30 – 7:30pm \nJoin us for an hour of Pokemon games and crafts.  Registration required.  Please call the library to register. \n  \n
URL:https://949thewave.com/event/pokemon-club-tcg-2/
END:VEVENT
END:VCALENDAR