BEGIN:VCALENDAR
VERSION:2.0
PRODID:-//94.9 The Wave - ECPv4.6.26//NONSGML v1.0//EN
CALSCALE:GREGORIAN
METHOD:PUBLISH
X-WR-CALNAME:94.9 The Wave
X-ORIGINAL-URL:https://949thewave.com
X-WR-CALDESC:Events for 94.9 The Wave
BEGIN:VEVENT
DTSTART;TZID=America/Halifax:20240212T180000
DTEND;TZID=America/Halifax:20240212T190000
DTSTAMP:20260424T121840
CREATED:20240201T184403Z
LAST-MODIFIED:20240201T184403Z
UID:15247-1707760800-1707764400@949thewave.com
SUMMARY:Pokemon Club
DESCRIPTION:Glace Bay Library \nMon Feb 12 \n6 – 7 \nGotta Catch Em All! Join us for our Pokemon club\, play the game and make some friends. \n  \n
URL:https://949thewave.com/event/pokemon-club-5/
END:VEVENT
END:VCALENDAR