BEGIN:VCALENDAR
VERSION:2.0
PRODID:-//94.9 The Wave - ECPv4.6.26//NONSGML v1.0//EN
CALSCALE:GREGORIAN
METHOD:PUBLISH
X-WR-CALNAME:94.9 The Wave
X-ORIGINAL-URL:https://949thewave.com
X-WR-CALDESC:Events for 94.9 The Wave
BEGIN:VEVENT
DTSTART;TZID=America/Halifax:20240115T180000
DTEND;TZID=America/Halifax:20240115T190000
DTSTAMP:20260423T162403
CREATED:20231214T191826Z
LAST-MODIFIED:20231214T191826Z
UID:15035-1705341600-1705345200@949thewave.com
SUMMARY:Pokemon Club
DESCRIPTION:Glace Bay Library \nMon Jan 15 \n6 – 7 \nGotta Catch Em All! Join us for our pokemon club\, play the game and make some friends. \n\n
URL:https://949thewave.com/event/pokemon-club-4/
END:VEVENT
END:VCALENDAR