BEGIN:VCALENDAR
VERSION:2.0
PRODID:-//94.9 The Wave - ECPv4.6.26//NONSGML v1.0//EN
CALSCALE:GREGORIAN
METHOD:PUBLISH
X-WR-CALNAME:94.9 The Wave
X-ORIGINAL-URL:https://949thewave.com
X-WR-CALDESC:Events for 94.9 The Wave
BEGIN:VEVENT
DTSTART;TZID=America/Halifax:20230403T140000
DTEND;TZID=America/Halifax:20230403T150000
DTSTAMP:20260421T125448
CREATED:20230330T173851Z
LAST-MODIFIED:20230330T173851Z
UID:13869-1680530400-1680534000@949thewave.com
SUMMARY:Poetry Exchange
DESCRIPTION:Glace Bay LIbrary \nMonday April 3rd \n2pm – 3pm \nExchange and share poetry with like minded poet lovers. \n
URL:https://949thewave.com/event/poetry-exchange/
END:VEVENT
END:VCALENDAR