BEGIN:VCALENDAR
VERSION:2.0
PRODID:-//94.9 The Wave - ECPv4.6.26//NONSGML v1.0//EN
CALSCALE:GREGORIAN
METHOD:PUBLISH
X-WR-CALNAME:94.9 The Wave
X-ORIGINAL-URL:https://949thewave.com
X-WR-CALDESC:Events for 94.9 The Wave
BEGIN:VEVENT
DTSTART;TZID=America/Halifax:20220627T183000
DTEND;TZID=America/Halifax:20220627T183000
DTSTAMP:20260422T065439
CREATED:20220623T132133Z
LAST-MODIFIED:20220623T132256Z
UID:12760-1656354600-1656354600@949thewave.com
SUMMARY:People First Nova Scotia Information Session
DESCRIPTION:People First Nova Scotia are a group dedicated to equality for people labelled with an intellectual or developmental disability.  They are currently seeking to start a People First chapter here in Cape Breton. \nInterested?  Come find out more and get involved. \nJune 27th\, 2022 at 6:30PM \nReserve Mines Firehall\, 195 Main Street in Reserve Mines. \n
URL:https://949thewave.com/event/people-first-nova-scotia-information-session/
END:VEVENT
END:VCALENDAR